BEGIN:VCALENDAR
VERSION:2.0
PRODID:-//Library Market//iCal Export//EN
BEGIN:VEVENT
SUMMARY:Welcome to Our Block Party Week Kickoff Party
UID:26292
DTSTAMP:20260425T165900Z
DTSTART:20260809T170000Z
DTEND:20260809T190000Z
LOCATION:927 Felix St., St. Joseph, MO 64501, United States
ROOM: Owen Meeting Room
DESCRIPTION:Welcome to our Block Party! Come help us kick off Block Party 
 week in honor of our new Block and Street model of organizing the adult no
 n-fiction collection. Take a guided tour of collection and journey through
  the blocks with a scavenger hunt. When you check out adult non-fiction ti
 tles this week, you can enter a drawing to win prizes. Beverages and light
  snacks will be served in the Owen Room. 
URL:https://sjpl.librarymarket.com/index.php/event/welcome-our-block-party
 -26292
END:VEVENT
END:VCALENDAR
