BEGIN:VCALENDAR
VERSION:2.0
PRODID:-//Library Market//iCal Export//EN
BEGIN:VEVENT
SUMMARY:Galaxy in a Jar
UID:26373
DTSTAMP:20260420T211200Z
DTSTART:20260713T203000Z
DTEND:20260713T213000Z
LOCATION:927 Felix St., St. Joseph, MO 64501, United States
ROOM: Owen Meeting Room
DESCRIPTION:Create your own piece of the night sky to take home and enjoy!
URL:https://sjpl.librarymarket.com/index.php/event/galaxy-jar-26373
END:VEVENT
END:VCALENDAR
