BEGIN:VCALENDAR
VERSION:2.0
PRODID:-//Library Market//iCal Export//EN
BEGIN:VEVENT
SUMMARY:Cookie Campfires
UID:26375
DTSTAMP:20260422T013600Z
DTSTART:20260806T203000Z
DTEND:20260806T213000Z
LOCATION:927 Felix St., St. Joseph, MO 64501, United States
ROOM: Owen Meeting Room
DESCRIPTION:Come and make a tasty treat that looks like a campfire but is 
 good to eat! Have a great time making this snack with cookies, pretzels a
 nd icing to resemble a summer time favorite the campfire.
URL:https://sjpl.librarymarket.com/index.php/event/cookie-campfires-26375
END:VEVENT
END:VCALENDAR
