BEGIN:VCALENDAR
VERSION:2.0
PRODID:-//Library Market//iCal Export//EN
BEGIN:VEVENT
SUMMARY:Raptors: Birds of Prey
UID:26415
DTSTAMP:20260419T171800Z
DTSTART:20260625T233000Z
DTEND:20260626T003000Z
LOCATION:502 N. Woodbine Rd, St. Joseph, MO 64506, United States
ROOM: The Theater
DESCRIPTION:This wildlife education program includes a mixture of hawks, f
 alcons, and owls for a total of five or six raptors. The audience members 
 will learn about the hunting habits, adaptive characteristics, and habitat
  needs of the birds presented.Presented by Operation Wildlife, in partners
 hip with Midland Empire Audubon Society.For all ages, no registration requ
 ired.
URL:https://sjpl.librarymarket.com/index.php/event/raptors-26415
END:VEVENT
END:VCALENDAR
