BEGIN:VCALENDAR
VERSION:2.0
PRODID:-//Library Market//iCal Export//EN
BEGIN:VEVENT
SUMMARY:Wacky Writing Prompts
UID:26451
DTSTAMP:20260423T082800Z
DTSTART:20260813T200000Z
DTEND:20260813T213000Z
LOCATION:927 Felix St., St. Joseph, MO 64501, United States
ROOM: Owen Meeting Room
DESCRIPTION:Does your fictional writing feel stuck? Are you ready to craft
  your story but can&#039;t find the words? Block out the time to stretch y
 our writing skills with wacky writing prompts in a judgement free zone. Pr
 ompts and encouragement will be provided along with paper and pencils. Ple
 ase bring laptop or tablet if you prefer. 
URL:https://sjpl.librarymarket.com/index.php/event/wacky-writing-prompts-2
 6451
END:VEVENT
END:VCALENDAR
