BEGIN:VCALENDAR
VERSION:2.0
PRODID:-//Library Market//iCal Export//EN
BEGIN:VEVENT
SUMMARY:Roaring Into Summer: Dinosaur Still Life Drawing
UID:26522
DTSTAMP:20260426T031400Z
DTSTART:20260611T200000Z
DTEND:20260611T213000Z
LOCATION:927 Felix St., St. Joseph, MO 64501, United States
ROOM: Owen Meeting Room
DESCRIPTION:Dinosaurs make everything more fun! Still life compositions ha
 ve been a popular art form since ancient times. Yet, how many bowls, fruit
 s, and plants can you draw before it feels a bit boring. What if we added 
 dinosaurs? Come draw the calamity that might befall the fruit with a tiny 
 t-Rex or a Brachiosaurus near a bowl of berries. Pencils and paper will be
  provided.    
URL:https://sjpl.librarymarket.com/index.php/event/roaring-summer-dinosaur
 -still-life-drawing-26522
END:VEVENT
END:VCALENDAR
