BEGIN:VCALENDAR
VERSION:2.0
PRODID:-//Library Market//iCal Export//EN
BEGIN:VEVENT
SUMMARY:Wind Chimes
UID:25824
DTSTAMP:20260420T211200Z
DTSTART:20260622T153000Z
DTEND:20260623T043000Z
LOCATION:927 Felix St., St. Joseph, MO 64501, United States
ROOM: Storytime Room (Downtown)
DESCRIPTION:Create your own wind chimes using washers to hang outside addi
 ng a unique touch to your outdoor space!
URL:https://sjpl.librarymarket.com/event/wind-chimes-25824
END:VEVENT
END:VCALENDAR
