BEGIN:VCALENDAR
VERSION:2.0
PRODID:-//Library Market//iCal Export//EN
BEGIN:VEVENT
SUMMARY:Windsock Cup Craft
UID:25826
DTSTAMP:20260421T014600Z
DTSTART:20260702T150000Z
DTEND:20260702T160000Z
LOCATION:927 Felix St., St. Joseph, MO 64501, United States
ROOM: Storytime Room (Downtown)
DESCRIPTION:Join us to make a festive Fourth of July windsock cup. We will
  read a book and make our craft. Find a special place to hang your windsoc
 k to add a splash of patriotic spirit to your celebration. 
URL:https://sjpl.librarymarket.com/event/windsock-cup-craft-25826
END:VEVENT
END:VCALENDAR
