BEGIN:VCALENDAR
VERSION:2.0
PRODID:-//Library Market//iCal Export//EN
BEGIN:VEVENT
SUMMARY:Off the Trail: Indoor Nature Study
UID:26450
DTSTAMP:20260422T124900Z
DTSTART:20260811T200000Z
DTEND:20260811T220000Z
LOCATION:927 Felix St., St. Joseph, MO 64501, United States
ROOM: Off the Trail: Indoor Nature Study
DESCRIPTION:Beat the heat with our indoor nature study! Whether you&#039;r
 e an avid artist or just getting started, join us as we bring some of the 
 wonders of nature - both plant life and faux animals - to an air condition
 ed space. After a short lesson on nature journaling, we&#039;ll get starte
 d with drawing various nature-based still life displays. All materials wil
 l be provided. 
URL:https://sjpl.librarymarket.com/event/indoor-nature-study-26450
END:VEVENT
END:VCALENDAR
