BEGIN:VCALENDAR
VERSION:2.0
PRODID:-//Library Market//iCal Export//EN
BEGIN:VEVENT
SUMMARY:Aquarium in a Jar
UID:26513
DTSTAMP:20260424T010800Z
DTSTART:20260812T150000Z
DTEND:20260812T160000Z
LOCATION:927 Felix St., St. Joseph, MO 64501, United States
ROOM: Storytime Room (Downtown)
DESCRIPTION:Make a splash by creating a mason jar aquarium.
URL:https://sjpl.librarymarket.com/event/mason-jar-aquarium-26513
END:VEVENT
END:VCALENDAR
