BEGIN:VCALENDAR
VERSION:2.0
PRODID:-//Library Market//iCal Export//EN
BEGIN:VEVENT
SUMMARY:Storytime - Chickens!
UID:26532
DTSTAMP:20260422T003100Z
DTSTART:20260713T150000Z
DTEND:20260713T160000Z
LOCATION:1821 N. 3rd St., St. Joseph, MO 64505, United States
ROOM: Storytime Room (Washington Park)
DESCRIPTION:Join us for Storytime, where little listeners will cuddle up f
 or a fun-filled story and then bring the tale to life with a hands-on craf
 t adventure! Perfect for tiny hands and big imaginations. Ages 0-6.
URL:https://sjpl.librarymarket.com/event/storytime-26532
END:VEVENT
END:VCALENDAR
