BEGIN:VCALENDAR
VERSION:2.0
PRODID:-//Library Market//iCal Export//EN
BEGIN:VEVENT
SUMMARY:The Story of US: Good Housekeeping and the Edwardian Household
UID:26539
DTSTAMP:20260423T044000Z
DTSTART:20260807T180000Z
DTEND:20260807T190000Z
LOCATION:927 Felix St., St. Joseph, MO 64501, United States
ROOM: Owen Meeting Room
DESCRIPTION:As we celebrate the 250th anniversary of the United States, we
  reflect on the history that has shaped our nation. In publication since 1
 885, Good Housekeeping magazine is a ubiquitous part of Americana. In th
 is presentation, Dr. Paula Hayward looks back at the 1907 and 1908 Good H
 ousekeeping issues as a form of social media outlining the cultural roles 
 for women in the Edwardian era such as advocates for national health, keep
 ers of “the domestic treasury,” and as commentators on higher educatio
 n for women. Light beverages and snacks will be served. 
URL:https://sjpl.librarymarket.com/event/story-us-26539
END:VEVENT
END:VCALENDAR
