BEGIN:VCALENDAR
VERSION:2.0
PRODID:-//Library Market//iCal Export//EN
BEGIN:VEVENT
SUMMARY:The Story of US
UID:26540
DTSTAMP:20260423T032500Z
DTSTART:20260814T180000Z
DTEND:20260814T190000Z
LOCATION:927 Felix St., St. Joseph, MO 64501, United States
ROOM: Owen Meeting Room
DESCRIPTION:As we celebrate the 250th anniversary of the United States, we
  reflect on the history that has shaped our nation.  Light beverages and
  snacks will be served. 
URL:https://sjpl.librarymarket.com/event/story-us-26540
END:VEVENT
END:VCALENDAR
